BEGIN:VCALENDAR
VERSION:2.0
PRODID:-//Arts in Motion Studio WM - ECPv6.15.20//NONSGML v1.0//EN
CALSCALE:GREGORIAN
METHOD:PUBLISH
X-WR-CALNAME:Arts in Motion Studio WM
X-ORIGINAL-URL:https://artsinmotionstudio.org
X-WR-CALDESC:Events for Arts in Motion Studio WM
REFRESH-INTERVAL;VALUE=DURATION:PT1H
X-Robots-Tag:noindex
X-PUBLISHED-TTL:PT1H
BEGIN:VTIMEZONE
TZID:America/Detroit
BEGIN:DAYLIGHT
TZOFFSETFROM:-0500
TZOFFSETTO:-0400
TZNAME:EDT
DTSTART:20250309T070000
END:DAYLIGHT
BEGIN:STANDARD
TZOFFSETFROM:-0400
TZOFFSETTO:-0500
TZNAME:EST
DTSTART:20251102T060000
END:STANDARD
BEGIN:DAYLIGHT
TZOFFSETFROM:-0500
TZOFFSETTO:-0400
TZNAME:EDT
DTSTART:20260308T070000
END:DAYLIGHT
BEGIN:STANDARD
TZOFFSETFROM:-0400
TZOFFSETTO:-0500
TZNAME:EST
DTSTART:20261101T060000
END:STANDARD
BEGIN:DAYLIGHT
TZOFFSETFROM:-0500
TZOFFSETTO:-0400
TZNAME:EDT
DTSTART:20270314T070000
END:DAYLIGHT
BEGIN:STANDARD
TZOFFSETFROM:-0400
TZOFFSETTO:-0500
TZNAME:EST
DTSTART:20271107T060000
END:STANDARD
END:VTIMEZONE
BEGIN:VEVENT
DTSTART;TZID=America/Detroit:20260501T073000
DTEND;TZID=America/Detroit:20260501T180000
DTSTAMP:20260423T063035
CREATED:20260321T053339Z
LAST-MODIFIED:20260321T053339Z
UID:10000021-1777620600-1777658400@artsinmotionstudio.org
SUMMARY:Charity Golf Outing 2026
DESCRIPTION:We are heading back to the greens on Friday\, May 1\, 2026 for a round of 18 supporting Arts in Motion Studio! To register your team\, sponsor the event\, or to learn more about our studio\, visit our event page: https://charitygolf.artsinmotionstudio.org.
URL:https://artsinmotionstudio.org/event/charity-golf-outing-2026/
LOCATION:Mines Golf Club\, 330 Covell Ave SW Suite A\, Grand Rapids\, 49534\, United States
CATEGORIES:Fundraising
ATTACH;FMTTYPE=image/jpeg:https://artsinmotionstudio.org/wp-content/uploads/2026/03/aimswmi-mc-image1-32026.jpg
END:VEVENT
BEGIN:VEVENT
DTSTART;TZID=America/Detroit:20260517T140000
DTEND;TZID=America/Detroit:20260517T150000
DTSTAMP:20260423T063035
CREATED:20260422T203130Z
LAST-MODIFIED:20260422T203130Z
UID:10000029-1779026400-1779030000@artsinmotionstudio.org
SUMMARY:Yoga for All
DESCRIPTION:Yoga on a mission?? I’m in! Join us for a monthly community yoga class! This is open to all skill levels and abilities and will meet in the Blackport Building at Lake Dr. and Diamond. All proceeds from the classes will support the mission of Arts in Motion Studio!\n✨\nGrab some friends and join us! Simply call/text or email to save your spot!
URL:https://artsinmotionstudio.org/event/yoga-for-all-2/2026-05-17/
LOCATION:Arts in Motion Studio WM\, 147 Diamond Ave SE\, Grand Rapids\, MI\, 49503\, United States
CATEGORIES:Community
ATTACH;FMTTYPE=image/png:https://artsinmotionstudio.org/wp-content/uploads/2025/04/aimswmi-yogaforall.png
END:VEVENT
BEGIN:VEVENT
DTSTART;TZID=America/Detroit:20260531T080000
DTEND;TZID=America/Detroit:20260531T170000
DTSTAMP:20260423T063035
CREATED:20260422T202301Z
LAST-MODIFIED:20260422T202301Z
UID:10000022-1780214400-1780246800@artsinmotionstudio.org
SUMMARY:Annual Showcase 2026
DESCRIPTION:It is our 2026 Annual Showcase for Arts in Motion Studio West Michigan on Sunday May\, 31\, 2026 from 2pm to 4pm.
URL:https://artsinmotionstudio.org/event/annual-showcase-2026-2/
LOCATION:Weathy Theater\, 1130 Wealthy St SE\, Grand Rapids\, 49506\, United States
CATEGORIES:Fundraising
ATTACH;FMTTYPE=image/jpeg:https://artsinmotionstudio.org/wp-content/uploads/2026/04/aimswmi-2026-annual-showcase-save-the-date.jpg
END:VEVENT
BEGIN:VEVENT
DTSTART;TZID=America/Detroit:20260614T140000
DTEND;TZID=America/Detroit:20260614T140000
DTSTAMP:20260423T063035
CREATED:20260422T203130Z
LAST-MODIFIED:20260422T203130Z
UID:10000030-1781445600-1781445600@artsinmotionstudio.org
SUMMARY:Yoga for All
DESCRIPTION:Yoga on a mission?? I’m in! Join us for a monthly community yoga class! This is open to all skill levels and abilities and will meet in the Blackport Building at Lake Dr. and Diamond. All proceeds from the classes will support the mission of Arts in Motion Studio!\n✨\nGrab some friends and join us! Simply call/text or email to save your spot!
URL:https://artsinmotionstudio.org/event/yoga-for-all-2/2026-06-14/
LOCATION:Arts in Motion Studio WM\, 147 Diamond Ave SE\, Grand Rapids\, MI\, 49503\, United States
CATEGORIES:Community
ATTACH;FMTTYPE=image/png:https://artsinmotionstudio.org/wp-content/uploads/2025/04/aimswmi-yogaforall.png
END:VEVENT
BEGIN:VEVENT
DTSTART;TZID=America/Detroit:20260719T140000
DTEND;TZID=America/Detroit:20260719T150000
DTSTAMP:20260423T063035
CREATED:20260422T203130Z
LAST-MODIFIED:20260422T203130Z
UID:10000031-1784469600-1784473200@artsinmotionstudio.org
SUMMARY:Yoga for All
DESCRIPTION:Yoga on a mission?? I’m in! Join us for a monthly community yoga class! This is open to all skill levels and abilities and will meet in the Blackport Building at Lake Dr. and Diamond. All proceeds from the classes will support the mission of Arts in Motion Studio!\n✨\nGrab some friends and join us! Simply call/text or email to save your spot!
URL:https://artsinmotionstudio.org/event/yoga-for-all-2/2026-07-19/
LOCATION:Arts in Motion Studio WM\, 147 Diamond Ave SE\, Grand Rapids\, MI\, 49503\, United States
CATEGORIES:Community
ATTACH;FMTTYPE=image/png:https://artsinmotionstudio.org/wp-content/uploads/2025/04/aimswmi-yogaforall.png
END:VEVENT
END:VCALENDAR