BEGIN:VCALENDAR
VERSION:2.0
PRODID:-//Arts in Motion Studio WM - ECPv6.15.20//NONSGML v1.0//EN
CALSCALE:GREGORIAN
METHOD:PUBLISH
X-ORIGINAL-URL:https://artsinmotionstudio.org
X-WR-CALDESC:Events for Arts in Motion Studio WM
REFRESH-INTERVAL;VALUE=DURATION:PT1H
X-Robots-Tag:noindex
X-PUBLISHED-TTL:PT1H
BEGIN:VTIMEZONE
TZID:America/Detroit
BEGIN:DAYLIGHT
TZOFFSETFROM:-0500
TZOFFSETTO:-0400
TZNAME:EDT
DTSTART:20220313T070000
END:DAYLIGHT
BEGIN:STANDARD
TZOFFSETFROM:-0400
TZOFFSETTO:-0500
TZNAME:EST
DTSTART:20221106T060000
END:STANDARD
BEGIN:DAYLIGHT
TZOFFSETFROM:-0500
TZOFFSETTO:-0400
TZNAME:EDT
DTSTART:20230312T070000
END:DAYLIGHT
BEGIN:STANDARD
TZOFFSETFROM:-0400
TZOFFSETTO:-0500
TZNAME:EST
DTSTART:20231105T060000
END:STANDARD
BEGIN:DAYLIGHT
TZOFFSETFROM:-0500
TZOFFSETTO:-0400
TZNAME:EDT
DTSTART:20240310T070000
END:DAYLIGHT
BEGIN:STANDARD
TZOFFSETFROM:-0400
TZOFFSETTO:-0500
TZNAME:EST
DTSTART:20241103T060000
END:STANDARD
BEGIN:DAYLIGHT
TZOFFSETFROM:-0500
TZOFFSETTO:-0400
TZNAME:EDT
DTSTART:20250309T070000
END:DAYLIGHT
BEGIN:STANDARD
TZOFFSETFROM:-0400
TZOFFSETTO:-0500
TZNAME:EST
DTSTART:20251102T060000
END:STANDARD
BEGIN:DAYLIGHT
TZOFFSETFROM:-0500
TZOFFSETTO:-0400
TZNAME:EDT
DTSTART:20260308T070000
END:DAYLIGHT
BEGIN:STANDARD
TZOFFSETFROM:-0400
TZOFFSETTO:-0500
TZNAME:EST
DTSTART:20261101T060000
END:STANDARD
END:VTIMEZONE
BEGIN:VEVENT
DTSTART;TZID=America/Detroit:20250629T073000
DTEND;TZID=America/Detroit:20250629T140000
DTSTAMP:20260423T132448
CREATED:20250417T145125Z
LAST-MODIFIED:20250417T145242Z
UID:10000012-1751182200-1751205600@artsinmotionstudio.org
SUMMARY:Arts in Motion Studio 1st Annual Golf Outing
DESCRIPTION:Arts in Motion is putting on our FIRST-EVER golf outing this June! Mark your calendars for Sunday\, June 29. Our event will be at Mines Golf Club and proceeds will benefit our studio! Please share this with all the golfers in your life.Register yourself or a team here: https://arts-in-motion-outing.perfectgolfevent.com \n\n\nRegistration\nHole Sponsor $100\nSingle Registration $125\nTeam Registration $500\nBronze Sponsor $250\nGold Sponsor $2\,500\nSilver Sponsor $1\,000\n\n\nEvent Agenda: 06/29/2025\n7:30 AM – Registration\n8:30 AM – Shotgun Start\n12:30 PM – Lunch and Student Performance
URL:https://artsinmotionstudio.org/event/arts-in-motion-studio-1st-annual-golf-outing/
LOCATION:Mines Golf Club\, 330 Covell Ave SW Suite A\, Grand Rapids\, 49534\, United States
CATEGORIES:Fundraising
ATTACH;FMTTYPE=image/jpeg:https://artsinmotionstudio.org/wp-content/uploads/2025/04/aimswmi-golf-outing.jpg
END:VEVENT
BEGIN:VEVENT
DTSTART;TZID=America/Detroit:20250622T140000
DTEND;TZID=America/Detroit:20250622T150000
DTSTAMP:20260423T132448
CREATED:20260422T203130Z
LAST-MODIFIED:20260422T203130Z
UID:10000026-1750600800-1750604400@artsinmotionstudio.org
SUMMARY:Yoga for All
DESCRIPTION:Yoga on a mission?? I’m in! Join us for a monthly community yoga class! This is open to all skill levels and abilities and will meet in the Blackport Building at Lake Dr. and Diamond. All proceeds from the classes will support the mission of Arts in Motion Studio!\n✨\nGrab some friends and join us! Simply call/text or email to save your spot!
URL:https://artsinmotionstudio.org/event/yoga-for-all-2/2025-06-22/
LOCATION:Arts in Motion Studio WM\, 147 Diamond Ave SE\, Grand Rapids\, MI\, 49503\, United States
CATEGORIES:Community
ATTACH;FMTTYPE=image/png:https://artsinmotionstudio.org/wp-content/uploads/2025/04/aimswmi-yogaforall.png
END:VEVENT
BEGIN:VEVENT
DTSTART;TZID=America/Detroit:20250622T140000
DTEND;TZID=America/Detroit:20250622T150000
DTSTAMP:20260423T132448
CREATED:20250417T142048Z
LAST-MODIFIED:20250417T142048Z
UID:10000008-1750600800-1750604400@artsinmotionstudio.org
SUMMARY:Yoga for All
DESCRIPTION:Yoga on a mission?? I’m in! Join us for a monthly community yoga class starting April 27 at 2pm! This is open to all skill levels and abilities and will meet in the Blackport Building at Lake Dr. and Diamond. All proceeds from the classes will support the mission of Arts in Motion Studio!\n✨\nGrab some friends and join us! Simply call/text or email to save your spot!
URL:https://artsinmotionstudio.org/event/yoga-for-all/2025-06-22/
LOCATION:Arts in Motion Studio WM\, 147 Diamond Ave SE\, Grand Rapids\, MI\, 49503\, United States
CATEGORIES:Community
ATTACH;FMTTYPE=image/png:https://artsinmotionstudio.org/wp-content/uploads/2025/04/aimswmi-yogaforall.png
END:VEVENT
BEGIN:VEVENT
DTSTART;TZID=America/Detroit:20250601T140000
DTEND;TZID=America/Detroit:20250601T170000
DTSTAMP:20260423T132448
CREATED:20250417T143940Z
LAST-MODIFIED:20250422T203931Z
UID:10000011-1748786400-1748797200@artsinmotionstudio.org
SUMMARY:June 2025 Annual Show
DESCRIPTION:Arts in Motion Presents our Annual Show! \nCome celebrate the arts with us on Sunday\, June 1st at 2pm! Please join us for a community performance of dance\, music\, and drama. Arts in Motion students and instructors have prepared several pieces for your enjoyment through months of brainstorming\, planning\, and rehearsing. Tickets are a suggested donation of $10!  \nArts in Motion is a nonprofit art studio located in Grand Rapids\, MI. We provide year-round adaptive arts programs for kids and adults with disabilities.
URL:https://artsinmotionstudio.org/event/june-2025-annual-show/
LOCATION:Weathy Theater\, 1130 Wealthy St SE\, Grand Rapids\, 49506\, United States
CATEGORIES:Community
ATTACH;FMTTYPE=image/jpeg:https://artsinmotionstudio.org/wp-content/uploads/2025/04/aimswmi-annual-show.jpg
END:VEVENT
BEGIN:VEVENT
DTSTART;TZID=America/Detroit:20250518T140000
DTEND;TZID=America/Detroit:20250518T150000
DTSTAMP:20260423T132448
CREATED:20260422T203130Z
LAST-MODIFIED:20260422T203130Z
UID:10000025-1747576800-1747580400@artsinmotionstudio.org
SUMMARY:Yoga for All
DESCRIPTION:Yoga on a mission?? I’m in! Join us for a monthly community yoga class! This is open to all skill levels and abilities and will meet in the Blackport Building at Lake Dr. and Diamond. All proceeds from the classes will support the mission of Arts in Motion Studio!\n✨\nGrab some friends and join us! Simply call/text or email to save your spot!
URL:https://artsinmotionstudio.org/event/yoga-for-all-2/2025-05-18/
LOCATION:Arts in Motion Studio WM\, 147 Diamond Ave SE\, Grand Rapids\, MI\, 49503\, United States
CATEGORIES:Community
ATTACH;FMTTYPE=image/png:https://artsinmotionstudio.org/wp-content/uploads/2025/04/aimswmi-yogaforall.png
END:VEVENT
BEGIN:VEVENT
DTSTART;TZID=America/Detroit:20250518T140000
DTEND;TZID=America/Detroit:20250518T150000
DTSTAMP:20260423T132448
CREATED:20250417T142048Z
LAST-MODIFIED:20250417T142048Z
UID:10000007-1747576800-1747580400@artsinmotionstudio.org
SUMMARY:Yoga for All
DESCRIPTION:Yoga on a mission?? I’m in! Join us for a monthly community yoga class starting April 27 at 2pm! This is open to all skill levels and abilities and will meet in the Blackport Building at Lake Dr. and Diamond. All proceeds from the classes will support the mission of Arts in Motion Studio!\n✨\nGrab some friends and join us! Simply call/text or email to save your spot!
URL:https://artsinmotionstudio.org/event/yoga-for-all/2025-05-18/
LOCATION:Arts in Motion Studio WM\, 147 Diamond Ave SE\, Grand Rapids\, MI\, 49503\, United States
CATEGORIES:Community
ATTACH;FMTTYPE=image/png:https://artsinmotionstudio.org/wp-content/uploads/2025/04/aimswmi-yogaforall.png
END:VEVENT
BEGIN:VEVENT
DTSTART;TZID=America/Detroit:20250427T140000
DTEND;TZID=America/Detroit:20250427T150000
DTSTAMP:20260423T132448
CREATED:20250417T142048Z
LAST-MODIFIED:20250417T142048Z
UID:10000006-1745762400-1745766000@artsinmotionstudio.org
SUMMARY:Yoga for All
DESCRIPTION:Yoga on a mission?? I’m in! Join us for a monthly community yoga class starting April 27 at 2pm! This is open to all skill levels and abilities and will meet in the Blackport Building at Lake Dr. and Diamond. All proceeds from the classes will support the mission of Arts in Motion Studio!\n✨\nGrab some friends and join us! Simply call/text or email to save your spot!
URL:https://artsinmotionstudio.org/event/yoga-for-all/2025-04-27/
LOCATION:Arts in Motion Studio WM\, 147 Diamond Ave SE\, Grand Rapids\, MI\, 49503\, United States
CATEGORIES:Community
ATTACH;FMTTYPE=image/png:https://artsinmotionstudio.org/wp-content/uploads/2025/04/aimswmi-yogaforall.png
END:VEVENT
BEGIN:VEVENT
DTSTART;TZID=America/Detroit:20250329T100000
DTEND;TZID=America/Detroit:20250329T140000
DTSTAMP:20260423T132448
CREATED:20250219T183745Z
LAST-MODIFIED:20250219T184604Z
UID:10000005-1743242400-1743256800@artsinmotionstudio.org
SUMMARY:Dance On! 2025
DESCRIPTION:Join us for a day of dancing\, hanging out with friends\, enjoying a pizza lunch\, and raising money for Arts in Motion Studio WM! Please Lisa or Molly for more information. To register\, visit our Dance On page.
URL:https://artsinmotionstudio.org/event/dance-on-2025/
LOCATION:Kate Pew Wolters Center at Indian Trails\, O-1859 Lake Michigan Dr NW\, Grand Rapids\, MI\, 49534\, United States
CATEGORIES:Fundraising
ATTACH;FMTTYPE=image/png:https://artsinmotionstudio.org/wp-content/uploads/2025/02/aimswmi-dance-on-20250-fb.png
END:VEVENT
BEGIN:VEVENT
DTSTART;TZID=America/Detroit:20230507T140000
DTEND;TZID=America/Detroit:20230507T160000
DTSTAMP:20260423T132448
CREATED:20230406T194428Z
LAST-MODIFIED:20230406T194428Z
UID:10000002-1683468000-1683475200@artsinmotionstudio.org
SUMMARY:Arts in Motion Studio Annual Spring Show Awakening 2023
DESCRIPTION:Our Annual Spring Show “Awakening” returns on May 7\, 2023 at 2pm.\nWe will perform at the Kretschmer Recital Hall Art and Music Center (AMC) on the campus of Aquinas College.
URL:https://artsinmotionstudio.org/event/arts-in-motion-studio-annual-spring-show-awakening-2023/
LOCATION:Kretschmer Recital Hall at Aquinas College\, 1700 Fulton St. E.\, Grand Rapids\, MI\, 49506\, United States
CATEGORIES:Community
GEO:42.9609893;-85.6309619
X-APPLE-STRUCTURED-LOCATION;VALUE=URI;X-ADDRESS=Kretschmer Recital Hall at Aquinas College 1700 Fulton St. E. Grand Rapids MI 49506 United States;X-APPLE-RADIUS=500;X-TITLE=1700 Fulton St. E.:geo:-85.6309619,42.9609893
END:VEVENT
BEGIN:VEVENT
DTSTART;TZID=America/Detroit:20230415T100000
DTEND;TZID=America/Detroit:20230415T140000
DTSTAMP:20260423T132448
CREATED:20230212T224126Z
LAST-MODIFIED:20230311T223747Z
UID:10000001-1681552800-1681567200@artsinmotionstudio.org
SUMMARY:Dance On 2023
DESCRIPTION:Dance On returns on April 15\, from 10am – 2pm at the Kate Pew Wolters Center at Indian trails Camp. \n\nCome ready to dance away the day. \nEntry Fee  $15 or $50 collected donations. \nPizza lunch and famous dance on t-shirts and prizes.\nBake sale and craft sales.\nCome and bring your friends.\n\nDownload the Dance On 2023 sign up form \nDownload the Dance On 2023 Pledge form
URL:https://artsinmotionstudio.org/event/dance-on-2023/
LOCATION:Kate Pew Wolters Center at Indian Trails\, O-1859 Lake Michigan Dr NW\, Grand Rapids\, MI\, 49534\, United States
CATEGORIES:Fundraising
ATTACH;FMTTYPE=image/png:https://artsinmotionstudio.org/wp-content/uploads/2023/02/aimswmi-danceon-official-tec-banner.png
END:VEVENT
END:VCALENDAR