BEGIN:VCALENDAR
VERSION:2.0
PRODID:-//Arts in Motion Studio WM - ECPv6.15.20//NONSGML v1.0//EN
CALSCALE:GREGORIAN
METHOD:PUBLISH
X-ORIGINAL-URL:https://artsinmotionstudio.org
X-WR-CALDESC:Events for Arts in Motion Studio WM
REFRESH-INTERVAL;VALUE=DURATION:PT1H
X-Robots-Tag:noindex
X-PUBLISHED-TTL:PT1H
BEGIN:VTIMEZONE
TZID:America/Detroit
BEGIN:DAYLIGHT
TZOFFSETFROM:-0500
TZOFFSETTO:-0400
TZNAME:EDT
DTSTART:20250309T070000
END:DAYLIGHT
BEGIN:STANDARD
TZOFFSETFROM:-0400
TZOFFSETTO:-0500
TZNAME:EST
DTSTART:20251102T060000
END:STANDARD
BEGIN:DAYLIGHT
TZOFFSETFROM:-0500
TZOFFSETTO:-0400
TZNAME:EDT
DTSTART:20260308T070000
END:DAYLIGHT
BEGIN:STANDARD
TZOFFSETFROM:-0400
TZOFFSETTO:-0500
TZNAME:EST
DTSTART:20261101T060000
END:STANDARD
BEGIN:DAYLIGHT
TZOFFSETFROM:-0500
TZOFFSETTO:-0400
TZNAME:EDT
DTSTART:20270314T070000
END:DAYLIGHT
BEGIN:STANDARD
TZOFFSETFROM:-0400
TZOFFSETTO:-0500
TZNAME:EST
DTSTART:20271107T060000
END:STANDARD
END:VTIMEZONE
BEGIN:VEVENT
DTSTART;TZID=America/Detroit:20260315T160000
DTEND;TZID=America/Detroit:20260315T170000
DTSTAMP:20260423T132448
CREATED:20260130T224108Z
LAST-MODIFIED:20260130T224509Z
UID:10000019-1773590400-1773594000@artsinmotionstudio.org
SUMMARY:Arts in Motion Studio Fashion Show at Ambrosia Theater
DESCRIPTION:Sunday\, March 15 2026 4:00 PM – 5:00 PM at Ambrosia Theater. \nJoin us for a dazzling event of style\, elegance\, glamour\, and FUN! This show is FREE to attend and open to the public! \nExclusive collections by Rock Paper Scissors Consignment Boutique & Clothing Matters. \nAccessories & ☕ Refreshments by Global Infusion. \n📸 Red carpet photo ops! \nDownload the Flyer for Arts in Motion Studio Fashion Show at Ambrosia Theater
URL:https://artsinmotionstudio.org/event/arts-in-motion-studio-fashion-show-at-ambrosia-theater/
LOCATION:Ambrosia Theater\, 959 Lake Dr SE #200\, Grand Rapids\, MI 49506\, Grand Rapids\, MI\, 49506\, United States
CATEGORIES:Community
ATTACH;FMTTYPE=image/jpeg:https://artsinmotionstudio.org/wp-content/uploads/2026/01/aimswmi-fashion-show-2026.jpg
END:VEVENT
END:VCALENDAR