BEGIN:VCALENDAR
VERSION:2.0
PRODID:-//Arts in Motion Studio WM - ECPv6.15.20//NONSGML v1.0//EN
CALSCALE:GREGORIAN
METHOD:PUBLISH
X-WR-CALNAME:Arts in Motion Studio WM
X-ORIGINAL-URL:https://artsinmotionstudio.org
X-WR-CALDESC:Events for Arts in Motion Studio WM
REFRESH-INTERVAL;VALUE=DURATION:PT1H
X-Robots-Tag:noindex
X-PUBLISHED-TTL:PT1H
BEGIN:VTIMEZONE
TZID:America/Detroit
BEGIN:DAYLIGHT
TZOFFSETFROM:-0500
TZOFFSETTO:-0400
TZNAME:EDT
DTSTART:20230312T070000
END:DAYLIGHT
BEGIN:STANDARD
TZOFFSETFROM:-0400
TZOFFSETTO:-0500
TZNAME:EST
DTSTART:20231105T060000
END:STANDARD
BEGIN:DAYLIGHT
TZOFFSETFROM:-0500
TZOFFSETTO:-0400
TZNAME:EDT
DTSTART:20240310T070000
END:DAYLIGHT
BEGIN:STANDARD
TZOFFSETFROM:-0400
TZOFFSETTO:-0500
TZNAME:EST
DTSTART:20241103T060000
END:STANDARD
BEGIN:DAYLIGHT
TZOFFSETFROM:-0500
TZOFFSETTO:-0400
TZNAME:EDT
DTSTART:20250309T070000
END:DAYLIGHT
BEGIN:STANDARD
TZOFFSETFROM:-0400
TZOFFSETTO:-0500
TZNAME:EST
DTSTART:20251102T060000
END:STANDARD
BEGIN:DAYLIGHT
TZOFFSETFROM:-0500
TZOFFSETTO:-0400
TZNAME:EDT
DTSTART:20260308T070000
END:DAYLIGHT
BEGIN:STANDARD
TZOFFSETFROM:-0400
TZOFFSETTO:-0500
TZNAME:EST
DTSTART:20261101T060000
END:STANDARD
END:VTIMEZONE
BEGIN:VEVENT
DTSTART;TZID=America/Detroit:20251108T180000
DTEND;TZID=America/Detroit:20251108T210000
DTSTAMP:20260423T132531
CREATED:20250911T002349Z
LAST-MODIFIED:20250911T012812Z
UID:10000013-1762624800-1762635600@artsinmotionstudio.org
SUMMARY:A Chair Affair 2025
DESCRIPTION:Join us for our Annual Chair Affair event! This year our in-person event will be held on Saturday\, November 8\, at Monroe Community Church. Preceded by our online auction happening November 1-7\, 2025. We hope you can join us! \nArts in Motion Studio views the creative arts as an important means of self-expression that should be accessible to all individuals. Classes for music\, drama\, dance and fine art are tailored to include all\, with a focus on creative expression in addition refining technique. These classes not only teach art but also help develop coordination\, communication and creativity. Our studio provides a safe place of belonging and creates ways to celebrate each student and their talents! \n\nDonate to A Chair Affair Today!
URL:https://artsinmotionstudio.org/event/a-chair-affair-2025/
LOCATION:Monroe Community Church\, 1020 Monroe Ave NW\, Grand Rapids\, MI\, 49503\, United States
CATEGORIES:Fundraising
ATTACH;FMTTYPE=image/png:https://artsinmotionstudio.org/wp-content/uploads/2025/09/aimswmi-chair-affair-2025.png
END:VEVENT
BEGIN:VEVENT
DTSTART;TZID=America/Detroit:20241109T180000
DTEND;TZID=America/Detroit:20241109T210000
DTSTAMP:20260423T132531
CREATED:20241101T025315Z
LAST-MODIFIED:20241101T025315Z
UID:10000004-1731175200-1731186000@artsinmotionstudio.org
SUMMARY:Chair Affair 2024
DESCRIPTION:A Chair Affair 2024\n\n\n\nJoin us for an evening of silent auctions\, amazing artwork\, and community support for Arts in Motion Studio! \n\n\n\nNovember 9\, 2024 from 6:00–9:00 pm at Monroe Community Church\, 1020 Monroe Ave NW\, Grand Rapids\, MI 49503
URL:https://artsinmotionstudio.org/event/chair-affair-2024/
LOCATION:Monroe Community Church\, 1020 Monroe Ave NW\, Grand Rapids\, MI\, 49503\, United States
CATEGORIES:Fundraising
ATTACH;FMTTYPE=image/png:https://artsinmotionstudio.org/wp-content/uploads/2024/08/aimswmi-chair-affair-2024.png
END:VEVENT
END:VCALENDAR