BEGIN:VCALENDAR
VERSION:2.0
PRODID:-//Arts in Motion Studio WM - ECPv6.15.20//NONSGML v1.0//EN
CALSCALE:GREGORIAN
METHOD:PUBLISH
X-WR-CALNAME:Arts in Motion Studio WM
X-ORIGINAL-URL:https://artsinmotionstudio.org
X-WR-CALDESC:Events for Arts in Motion Studio WM
REFRESH-INTERVAL;VALUE=DURATION:PT1H
X-Robots-Tag:noindex
X-PUBLISHED-TTL:PT1H
BEGIN:VTIMEZONE
TZID:America/Detroit
BEGIN:DAYLIGHT
TZOFFSETFROM:-0500
TZOFFSETTO:-0400
TZNAME:EDT
DTSTART:20240310T070000
END:DAYLIGHT
BEGIN:STANDARD
TZOFFSETFROM:-0400
TZOFFSETTO:-0500
TZNAME:EST
DTSTART:20241103T060000
END:STANDARD
BEGIN:DAYLIGHT
TZOFFSETFROM:-0500
TZOFFSETTO:-0400
TZNAME:EDT
DTSTART:20250309T070000
END:DAYLIGHT
BEGIN:STANDARD
TZOFFSETFROM:-0400
TZOFFSETTO:-0500
TZNAME:EST
DTSTART:20251102T060000
END:STANDARD
BEGIN:DAYLIGHT
TZOFFSETFROM:-0500
TZOFFSETTO:-0400
TZNAME:EDT
DTSTART:20260308T070000
END:DAYLIGHT
BEGIN:STANDARD
TZOFFSETFROM:-0400
TZOFFSETTO:-0500
TZNAME:EST
DTSTART:20261101T060000
END:STANDARD
END:VTIMEZONE
BEGIN:VEVENT
DTSTART;TZID=America/Detroit:20251212T180000
DTEND;TZID=America/Detroit:20251212T200000
DTSTAMP:20260423T132811
CREATED:20251024T170855Z
LAST-MODIFIED:20251121T070250Z
UID:10000014-1765562400-1765569600@artsinmotionstudio.org
SUMMARY:Arts in Motion Studio WM Annual Holiday Show 2025 The Nutcracker
DESCRIPTION:Join us for one of our favorite performances of the year! This performance is free to attend and is followed by a cookie reception.
URL:https://artsinmotionstudio.org/event/arts-in-motion-studio-wm-annual-holiday-show-2025-the-nutcracker/
LOCATION:Trinity United Methodist Church\, 1100 Lake Dr. SE\, Grand Rapids\, 49506-1538\, United States
CATEGORIES:Community
ATTACH;FMTTYPE=image/jpeg:https://artsinmotionstudio.org/wp-content/uploads/2025/11/aimswmi-the-nutcracker-2025-11-18.jpg
END:VEVENT
END:VCALENDAR